Workbook

Sheet PART
B1: 9 | C1: CECCATO Yohann | D1: ECW | E1: BEL
B2: 14 | C2: DECHESNE Julien | D2: ECW | E2: BEL
B3: 19 | C3: GILLES Amaury | D3: ECW | E3: BEL19960620
B4: 21 | C4: GUSTIN Cyril | D4: ECW | E4: BEL20001023
B5: 27 | C5: LEHNEN Thomas | D5: ECW / Racepoint | E5: BEL19960725
B6: 31 | C6: MARLOYE Robin | D6: ECW | E6: BEL19990628
B7: 33 | C7: NOEL Adrien | D7: ECW | E7: BEL19970110
B8: 34 | C8: PAULS Geoffrey | D8: ECW | E8: BEL
B9: 45 | C9: XHONNEUX Pierre | D9: ECW | E9: BEL20030203
B10: 103 | C10: LIBOIS Martin *** | D10: SLC² | E10: BEL20050707
B11: 104 | C11: MULLER Anthony *** | D11: SLC² | E11: BEL
B12: 106 | C12: DELCOMMUNE Jules | D12: TRUSTUP-CC CHEVIGNY | E12: BEL20070315
... B130: 373 | C130: SOBCZAK Marcin | D130: BKCT | E130: BEL19870530
B131: 383 | C131: FELLER Gil | D131: HOTTON CC
B132: 399 | C132: DOMINIQUE Rémy | D132: *** | E132: BEL
B133: 435 | C133: PONSARD Julien ** | D133: CR Luxembourg | E133: BEL19810328
B134: 436 | C134: COUNET Stéphan | D134: Team Sprt & Nature | E134: BEL19780114
B135: 440 | C135: NOIRHOMME Alain *** | D135: TRUSTUP-CC CHEVIGNY | E135: BEL19770210
B136: 581 | C136: SCHMITT Peter (D) | D136: Cycle Capital CC | E136: GER19670114
B137: 200 | C137: BORREY Tom *** | D137: TRUSTUP-CC CHEVIGNY | E137: BEL

Sheet étape 1
B2: 1e étape
B3: Ste MARIE s/Semois - ETALLE | D3: 103 partants
B4: 67 km | C4: 1h.37' (41,443)
A6: 1 | B6: 188 | C6: =VLOOKUP(B6,PART!B$1:C$171,2,FALSE) -> HILBERS Daan (NL) | D6: =VLOOKUP(C6,PART!C$1:E$171,2,FALSE) -> USWV de Domrenner | E6: 0.067361111
A7: 2 | B7: 280 | C7: =VLOOKUP(B7,PART!B$1:C$171,2,FALSE) -> HADZHISTOYANOV Borislav (BG) | D7: =VLOOKUP(C7,PART!C$1:E$171,2,FALSE) -> Vitosha CT | E7: 0.067361111
A8: 3 | B8: 225 | C8: =VLOOKUP(B8,PART!B$1:C$171,2,FALSE) -> BIEMANS Hein (NL) | D8: =VLOOKUP(C8,PART!C$1:E$171,2,FALSE) -> FAVO-KEVENAAR | E8: 0.067361111
A9: 4 | B9: 245 | C9: =VLOOKUP(B9,PART!B$1:C$171,2,FALSE) -> BRUYNOOGHE Niels | D9: =VLOOKUP(C9,PART!C$1:E$171,2,FALSE) -> SALTT R.T. | E9: 0.067361111
A10: 5 | B10: 260 | C10: =VLOOKUP(B10,PART!B$1:C$171,2,FALSE) -> MAEYAERT Baptiste | D10: =VLOOKUP(C10,PART!C$1:E$171,2,FALSE) -> SHEETAH-KOERZ CT | E10: 0.067361111
A11: 6 | B11: 27 | C11: =VLOOKUP(B11,PART!B$1:C$171,2,FALSE) -> LEHNEN Thomas | D11: =VLOOKUP(C11,PART!C$1:E$171,2,FALSE) -> ECW / Racepoint | E11: 0.067361111
A12: 7 | B12: 279 | C12: =VLOOKUP(B12,PART!B$1:C$171,2,FALSE) -> DEBAELE Jorre | D12: =VLOOKUP(C12,PART!C$1:E$171,2,FALSE) -> VDR Bikes CT | E12: 0.067361111
A13: 8 | B13: 305 | C13: =VLOOKUP(B13,PART!B$1:C$171,2,FALSE) -> BURTON Jérémy | D13: =VLOOKUP(C13,PART!C$1:E$171,2,FALSE) -> ECW | E13: 0.067361111
A14: 9 | B14: 239 | C14: =VLOOKUP(B14,PART!B$1:C$171,2,FALSE) -> NACHTEGAELE Wannes | D14: =VLOOKUP(C14,PART!C$1:E$171,2,FALSE) -> RCT | E14: 0.067361111
A15: 10 | B15: 208 | C15: =VLOOKUP(B15,PART!B$1:C$171,2,FALSE) -> SEMAL Théo | D15: =VLOOKUP(C15,PART!C$1:E$171,2,FALSE) -> BRUSSELS CYCLING PROJ. | E15: 0.067361111
A16: 11 | B16: 435 | C16: =VLOOKUP(B16,PART!B$1:C$171,2,FALSE) -> PONSARD Julien ** | D16: =VLOOKUP(C16,PART!C$1:E$171,2,FALSE) -> CR Luxembourg | E16: 0.067361111
A17: 12 | B17: 185 | C17: =VLOOKUP(B17,PART!B$1:C$171,2,FALSE) -> RUIZENDAAL Lars (NL) | D17: =VLOOKUP(C17,PART!C$1:E$171,2,FALSE) -> WV de Amstel | E17: 0.067361111
... A70: 65 | B70: 148 | C70: =VLOOKUP(B70,PART!B$1:C$171,2,FALSE) -> BAUDIN Guilhem | D70: =VLOOKUP(C70,PART!C$1:E$171,2,FALSE) -> BRUSSELS CYCLING PROJ. | E70: 0.070416667
A71: DNF | B71: 33 | C71: =VLOOKUP(B71,PART!B$1:C$171,2,FALSE) -> NOEL Adrien | D71: =VLOOKUP(C71,PART!C$1:E$171,2,FALSE) -> ECW | E71: DNF
A72: DNF | B72: 117 | C72: =VLOOKUP(B72,PART!B$1:C$171,2,FALSE) -> NEULENS Ethan ** | D72: =VLOOKUP(C72,PART!C$1:E$171,2,FALSE) -> VCHH | E72: DNF
A73: DNF | B73: 127 | C73: =VLOOKUP(B73,PART!B$1:C$171,2,FALSE) -> PAIROUX Alexandre | D73: =VLOOKUP(C73,PART!C$1:E$171,2,FALSE) -> LE MAILLON | E73: DNF
A74: DNF | B74: 139 | C74: =VLOOKUP(B74,PART!B$1:C$171,2,FALSE) -> BABIN Cedric | D74: =VLOOKUP(C74,PART!C$1:E$171,2,FALSE) -> BRUSSELS CYCLING PROJ. | E74: DNF
A75: DNF | B75: 191 | C75: =VLOOKUP(B75,PART!B$1:C$171,2,FALSE) -> SCHYNS David | D75: =VLOOKUP(C75,PART!C$1:E$171,2,FALSE) -> *** | E75: DNF
A76: DNF | B76: 9 | C76: =VLOOKUP(B76,PART!B$1:C$171,2,FALSE) -> CECCATO Yohann | D76: =VLOOKUP(C76,PART!C$1:E$171,2,FALSE) -> ECW | E76: DNF
A77: DNF | B77: 197 | C77: =VLOOKUP(B77,PART!B$1:C$171,2,FALSE) -> PAIROUX Jules *** | D77: =VLOOKUP(C77,PART!C$1:E$171,2,FALSE) -> TRUSTUP-CC CHEVIGNY | E77: DNF
A78: DNF | B78: 45 | C78: =VLOOKUP(B78,PART!B$1:C$171,2,FALSE) -> XHONNEUX Pierre | D78: =VLOOKUP(C78,PART!C$1:E$171,2,FALSE) -> ECW | E78: DNF
A79: DNF | B79: 204 | C79: =VLOOKUP(B79,PART!B$1:C$171,2,FALSE) -> HEALY Martijn (NL) | D79: =VLOOKUP(C79,PART!C$1:E$171,2,FALSE) -> ECW | E79: DNF
A80: DNF | B80: 211 | C80: =VLOOKUP(B80,PART!B$1:C$171,2,FALSE) -> MOERMAN Sam | D80: =VLOOKUP(C80,PART!C$1:E$171,2,FALSE) -> Djk Team | E80: DNF
A81: DNF | B81: 215 | C81: =VLOOKUP(B81,PART!B$1:C$171,2,FALSE) -> KERTZMAN Jos (NL) | D81: =VLOOKUP(C81,PART!C$1:E$171,2,FALSE) -> Dutch Mountains | E81: DNF
A82: DNF | B82: 216 | C82: =VLOOKUP(B82,PART!B$1:C$171,2,FALSE) -> SCHMITZ Jannik (NL) | D82: =VLOOKUP(C82,PART!C$1:E$171,2,FALSE) -> Dutch Mountains | E82: DNF
... A108: DNF | B108: 581 | C108: =VLOOKUP(B108,PART!B$1:C$171,2,FALSE) -> SCHMITT Peter (D) | D108: =VLOOKUP(C108,PART!C$1:E$171,2,FALSE) -> Cycle Capital CC | E108: DNF
B110: GPM
A111: 1 | B111: 225 | C111: =VLOOKUP(B111,PART!B$1:C$171,2,FALSE) -> BIEMANS Hein (NL) | D111: =VLOOKUP(C111,PART!C$1:E$171,2,FALSE) -> FAVO-KEVENAAR | E111: 21
A112: 2 | B112: 279 | C112: =VLOOKUP(B112,PART!B$1:C$171,2,FALSE) -> DEBAELE Jorre | D112: =VLOOKUP(C112,PART!C$1:E$171,2,FALSE) -> VDR Bikes CT | E112: 13
A113: 3 | B113: 280 | C113: =VLOOKUP(B113,PART!B$1:C$171,2,FALSE) -> HADZHISTOYANOV Borislav (BG) | D113: =VLOOKUP(C113,PART!C$1:E$171,2,FALSE) -> Vitosha CT | E113: 12
A114: 4 | B114: 27 | C114: =VLOOKUP(B114,PART!B$1:C$171,2,FALSE) -> LEHNEN Thomas | D114: =VLOOKUP(C114,PART!C$1:E$171,2,FALSE) -> ECW / Racepoint | E114: 8
A115: 5 | B115: 188 | C115: =VLOOKUP(B115,PART!B$1:C$171,2,FALSE) -> HILBERS Daan (NL) | D115: =VLOOKUP(C115,PART!C$1:E$171,2,FALSE) -> USWV de Domrenner | E115: 5
A116: 6 | B116: 193 | C116: =VLOOKUP(B116,PART!B$1:C$171,2,FALSE) -> HOLLANDER Daan | D116: =VLOOKUP(C116,PART!C$1:E$171,2,FALSE) -> USWV De Domrenner | E116: 5
B118: RUSH
A119: 1 | B119: 225 | C119: =VLOOKUP(B119,PART!B$1:C$171,2,FALSE) -> BIEMANS Hein (NL) | D119: =VLOOKUP(C119,PART!C$1:D$171,2,FALSE) -> FAVO-KEVENAAR | E119: 8
A120: 2 | B120: 27 | C120: =VLOOKUP(B120,PART!B$1:C$171,2,FALSE) -> LEHNEN Thomas | D120: =VLOOKUP(C120,PART!C$1:E$171,2,FALSE) -> ECW / Racepoint | E120: 5
A121: 3 | B121: 305 | C121: =VLOOKUP(B121,PART!B$1:C$171,2,FALSE) -> BURTON Jérémy | D121: =VLOOKUP(C121,PART!C$1:E$171,2,FALSE) -> ECW | E121: 3

Sheet étape 2
B2: 2° étape
B3: HOTTON - HOTTON
B4: 87,8 km | C4: 2h.03'30" (42,655) | D4: 94 partants
A6: 1 | B6: 246 | C6: =VLOOKUP(B6,PART!B$1:C$171,2,FALSE) -> COOPMAN Tristan | D6: =VLOOKUP(C6,PART!C$1:D$171,2,FALSE) -> SALTT R.T. | E6: 0.085763889
A7: 2 | B7: 188 | C7: =VLOOKUP(B7,PART!B$1:C$171,2,FALSE) -> HILBERS Daan (NL) | D7: =VLOOKUP(C7,PART!C$1:D$171,2,FALSE) -> USWV de Domrenner | E7: 0.085763889
A8: 3 | B8: 281 | C8: =VLOOKUP(B8,PART!B$1:C$171,2,FALSE) -> VON KLEMPERER Max (D) | D8: =VLOOKUP(C8,PART!C$1:D$171,2,FALSE) -> Westland WV | E8: 0.085763889
A9: 4 | B9: 225 | C9: =VLOOKUP(B9,PART!B$1:C$171,2,FALSE) -> BIEMANS Hein (NL) | D9: =VLOOKUP(C9,PART!C$1:D$171,2,FALSE) -> FAVO-KEVENAAR | E9: 0.085763889
A10: 5 | B10: 305 | C10: =VLOOKUP(B10,PART!B$1:C$171,2,FALSE) -> BURTON Jérémy | D10: =VLOOKUP(C10,PART!C$1:D$171,2,FALSE) -> ECW | E10: 0.085763889
A11: 6 | B11: 106 | C11: =VLOOKUP(B11,PART!B$1:C$171,2,FALSE) -> DELCOMMUNE Jules | D11: =VLOOKUP(C11,PART!C$1:D$171,2,FALSE) -> TRUSTUP-CC CHEVIGNY | E11: 0.085763889
A12: 7 | B12: 242 | C12: =VLOOKUP(B12,PART!B$1:C$171,2,FALSE) -> JANS Noah | D12: =VLOOKUP(C12,PART!C$1:D$171,2,FALSE) -> Rupel Cycling Team | E12: 0.085763889
A13: 8 | B13: 280 | C13: =VLOOKUP(B13,PART!B$1:C$171,2,FALSE) -> HADZHISTOYANOV Borislav (BG) | D13: =VLOOKUP(C13,PART!C$1:D$171,2,FALSE) -> Vitosha CT | E13: 0.085763889
A14: 9 | B14: 348 | C14: =VLOOKUP(B14,PART!B$1:C$171,2,FALSE) -> VAN POUCKE Michaël | D14: =VLOOKUP(C14,PART!C$1:D$171,2,FALSE) -> ECW | E14: 0.085763889
A15: 10 | B15: 108 | C15: =VLOOKUP(B15,PART!B$1:C$171,2,FALSE) -> MOINET Lucas *** | D15: =VLOOKUP(C15,PART!C$1:D$171,2,FALSE) -> TRUSTUP-CC CHEVIGNY | E15: 0.085763889
A16: 11 | B16: 284 | C16: =VLOOKUP(B16,PART!B$1:C$171,2,FALSE) -> HAAN Romano (NL) | D16: =VLOOKUP(C16,PART!C$1:D$171,2,FALSE) -> WTOS DELFT | E16: 0.085763889
A17: 12 | B17: 192 | C17: =VLOOKUP(B17,PART!B$1:C$171,2,FALSE) -> JOOSTEN Finn (NL) | D17: =VLOOKUP(C17,PART!C$1:D$171,2,FALSE) -> USWV De Domrenner | E17: 0.085763889
... A75: 70 | B75: 383 | C75: =VLOOKUP(B75,PART!B$1:C$171,2,FALSE) -> FELLER Gil | D75: =VLOOKUP(C75,PART!C$1:D$171,2,FALSE) -> HOTTON CC | E75: 0.098125
A76: DNF | B76: 581 | C76: =VLOOKUP(B76,PART!B$1:C$171,2,FALSE) -> SCHMITT Peter (D) | D76: =VLOOKUP(C76,PART!C$1:D$171,2,FALSE) -> Cycle Capital CC | E76: DNF
A77: DNF | B77: 216 | C77: =VLOOKUP(B77,PART!B$1:C$171,2,FALSE) -> SCHMITZ Jannik (NL) | D77: =VLOOKUP(C77,PART!C$1:D$171,2,FALSE) -> Dutch Mountains | E77: DNF
A78: DNF | B78: 276 | C78: =VLOOKUP(B78,PART!B$1:C$171,2,FALSE) -> OORD Spiek (NL) | D78: =VLOOKUP(C78,PART!C$1:D$171,2,FALSE) -> USWV de Domrenner | E78: DNF
A79: DNF | B79: 189 | C79: =VLOOKUP(B79,PART!B$1:C$171,2,FALSE) -> VAN SCHIJNDEL Marco (NL) | D79: =VLOOKUP(C79,PART!C$1:D$171,2,FALSE) -> Teram Strassacker | E79: DNF
A80: DNF | B80: 211 | C80: =VLOOKUP(B80,PART!B$1:C$171,2,FALSE) -> MOERMAN Sam | D80: =VLOOKUP(C80,PART!C$1:D$171,2,FALSE) -> Djk Team | E80: DNF
A81: DNF | B81: 203 | C81: =VLOOKUP(B81,PART!B$1:C$171,2,FALSE) -> VAN ZYL Théo (ZAF) | D81: =VLOOKUP(C81,PART!C$1:D$171,2,FALSE) -> SKITS | E81: DNF
A82: DNF | B82: 290 | C82: =VLOOKUP(B82,PART!B$1:C$171,2,FALSE) -> ORLANDI Giorgio (I) | D82: =VLOOKUP(C82,PART!C$1:D$171,2,FALSE) -> de Amstel | E82: DNF
A83: DNF | B83: 235 | C83: =VLOOKUP(B83,PART!B$1:C$171,2,FALSE) -> DEIMAN Olaf (NL) | D83: =VLOOKUP(C83,PART!C$1:D$171,2,FALSE) -> Tandje Hoger | E83: DNF
A84: DNF | B84: 292 | C84: =VLOOKUP(B84,PART!B$1:C$171,2,FALSE) -> LOUWRIER Mozes (NL) | D84: =VLOOKUP(C84,PART!C$1:D$171,2,FALSE) -> WV Kannibal | E84: DNF
A85: DNF | B85: 9 | C85: =VLOOKUP(B85,PART!B$1:C$171,2,FALSE) -> CECCATO Yohann | D85: =VLOOKUP(C85,PART!C$1:D$171,2,FALSE) -> ECW | E85: DNF
A86: DNF | B86: 370 | C86: =VLOOKUP(B86,PART!B$1:C$171,2,FALSE) -> VAN HOVE Thomas | D86: =VLOOKUP(C86,PART!C$1:D$171,2,FALSE) -> BRUSSELS CYCLING PROJ. | E86: DNF
A87: DNF | B87: 111 | C87: =VLOOKUP(B87,PART!B$1:C$171,2,FALSE) -> WARSAGE Thomas *** | D87: =VLOOKUP(C87,PART!C$1:D$171,2,FALSE) -> TRUSTUP-CC CHEVIGNY | E87: DNF
... A99: DNF | B99: 183 | C99: =VLOOKUP(B99,PART!B$1:C$171,2,FALSE) -> VAN DER POEL Mika (NL) | D99: =VLOOKUP(C99,PART!C$1:D$171,2,FALSE) -> WV Schijndel | E99: DNF
B101: GPM
A102: 1 | B102: 280 | C102: =VLOOKUP(B102,PART!B$1:C$171,2,FALSE) -> HADZHISTOYANOV Borislav (BG) | D102: =VLOOKUP(C102,PART!C$1:D$171,2,FALSE) -> Vitosha CT | E102: 21
A103: 2 | B103: 27 | C103: =VLOOKUP(B103,PART!B$1:C$171,2,FALSE) -> LEHNEN Thomas | D103: =VLOOKUP(C103,PART!C$1:D$171,2,FALSE) -> ECW / Racepoint | E103: 16
A104: 3 | B104: 279 | C104: =VLOOKUP(B104,PART!B$1:C$171,2,FALSE) -> DEBAELE Jorre | D104: =VLOOKUP(C104,PART!C$1:D$171,2,FALSE) -> VDR Bikes CT | E104: 13
A105: 4 | B105: 262 | C105: =VLOOKUP(B105,PART!B$1:C$171,2,FALSE) -> LOWYCK Benjamin | D105: =VLOOKUP(C105,PART!C$1:D$171,2,FALSE) -> SHEETAH-KOERZ CT | E105: 5
A106: 5 | B106: 225 | C106: =VLOOKUP(B106,PART!B$1:C$171,2,FALSE) -> BIEMANS Hein (NL) | D106: =VLOOKUP(C106,PART!C$1:D$171,2,FALSE) -> FAVO-KEVENAAR | E106: 3
A107: 6 | B107: 106 | C107: =VLOOKUP(B107,PART!B$1:C$171,2,FALSE) -> DELCOMMUNE Jules | D107: =VLOOKUP(C107,PART!C$1:D$171,2,FALSE) -> TRUSTUP-CC CHEVIGNY | E107: 3
A108: 7 | B108: 188 | C108: =VLOOKUP(B108,PART!B$1:C$171,2,FALSE) -> HILBERS Daan (NL) | D108: =VLOOKUP(C108,PART!C$1:D$171,2,FALSE) -> USWV de Domrenner | E108: 3
B109: RUSH
A110: 1 | B110: 27 | C110: =VLOOKUP(B110,PART!B$1:C$171,2,FALSE) -> LEHNEN Thomas | D110: =VLOOKUP(C110,PART!C$1:D$171,2,FALSE) -> ECW / Racepoint | E110: 8
A111: 2 | B111: 305 | C111: =VLOOKUP(B111,PART!B$1:C$171,2,FALSE) -> BURTON Jérémy | D111: =VLOOKUP(C111,PART!C$1:D$171,2,FALSE) -> ECW | E111: 5
...

Sheet étape 3
B2: 3° étape
B3: EREZEE - EREZEE
B4: 80 km | C4: 1 h.55'15" (41,643) | D4: 113 partants
A6: 1 | C6: =VLOOKUP(B6,PART!B$1:C$171,2,FALSE) -> #N/A | D6: =VLOOKUP(C6,PART!C$1:D$171,2,FALSE) -> #N/A | F6: 1
A7: 2 | C7: =VLOOKUP(B7,PART!B$1:C$171,2,FALSE) -> #N/A | D7: =VLOOKUP(C7,PART!C$1:D$171,2,FALSE) -> #N/A | F7: 2
A8: 3 | C8: =VLOOKUP(B8,PART!B$1:C$171,2,FALSE) -> #N/A | D8: =VLOOKUP(C8,PART!C$1:D$171,2,FALSE) -> #N/A | F8: 3
A9: 4 | C9: =VLOOKUP(B9,PART!B$1:C$171,2,FALSE) -> #N/A | D9: =VLOOKUP(C9,PART!C$1:D$171,2,FALSE) -> #N/A | F9: 4
A10: 5 | C10: =VLOOKUP(B10,PART!B$1:C$171,2,FALSE) -> #N/A | D10: =VLOOKUP(C10,PART!C$1:D$171,2,FALSE) -> #N/A | F10: 5
A11: 6 | C11: =VLOOKUP(B11,PART!B$1:C$171,2,FALSE) -> #N/A | D11: =VLOOKUP(C11,PART!C$1:D$171,2,FALSE) -> #N/A | F11: 6
A12: 7 | C12: =VLOOKUP(B12,PART!B$1:C$171,2,FALSE) -> #N/A | D12: =VLOOKUP(C12,PART!C$1:D$171,2,FALSE) -> #N/A | F12: 7
A13: 8 | C13: =VLOOKUP(B13,PART!B$1:C$171,2,FALSE) -> #N/A | D13: =VLOOKUP(C13,PART!C$1:D$171,2,FALSE) -> #N/A | F13: 8
A14: 9 | C14: =VLOOKUP(B14,PART!B$1:C$171,2,FALSE) -> #N/A | D14: =VLOOKUP(C14,PART!C$1:D$171,2,FALSE) -> #N/A | F14: 9
A15: 10 | C15: =VLOOKUP(B15,PART!B$1:C$171,2,FALSE) -> #N/A | D15: =VLOOKUP(C15,PART!C$1:D$171,2,FALSE) -> #N/A | F15: 10
A16: 11 | C16: =VLOOKUP(B16,PART!B$1:C$171,2,FALSE) -> #N/A | D16: =VLOOKUP(C16,PART!C$1:D$171,2,FALSE) -> #N/A | F16: 11
A17: 12 | C17: =VLOOKUP(B17,PART!B$1:C$171,2,FALSE) -> #N/A | D17: =VLOOKUP(C17,PART!C$1:D$171,2,FALSE) -> #N/A | F17: 12
... A51: 46 | C51: =VLOOKUP(B51,PART!B$1:C$171,2,FALSE) -> #N/A | D51: =VLOOKUP(C51,PART!C$1:D$171,2,FALSE) -> #N/A | F51: 46
A52: DNF | C52: =VLOOKUP(B52,PART!B$1:C$171,2,FALSE) -> #N/A | D52: =VLOOKUP(C52,PART!C$1:D$171,2,FALSE) -> #N/A | E52: DNF
A53: DNF | C53: =VLOOKUP(B53,PART!B$1:C$171,2,FALSE) -> #N/A | D53: =VLOOKUP(C53,PART!C$1:D$171,2,FALSE) -> #N/A | E53: DNF
A54: DNF | C54: =VLOOKUP(B54,PART!B$1:C$171,2,FALSE) -> #N/A | D54: =VLOOKUP(C54,PART!C$1:D$171,2,FALSE) -> #N/A | E54: DNF
A55: DNF | C55: =VLOOKUP(B55,PART!B$1:C$171,2,FALSE) -> #N/A | D55: =VLOOKUP(C55,PART!C$1:D$171,2,FALSE) -> #N/A | E55: DNF
A56: DNF | C56: =VLOOKUP(B56,PART!B$1:C$171,2,FALSE) -> #N/A | D56: =VLOOKUP(C56,PART!C$1:D$171,2,FALSE) -> #N/A | E56: DNF
A57: DNF | C57: =VLOOKUP(B57,PART!B$1:C$171,2,FALSE) -> #N/A | D57: =VLOOKUP(C57,PART!C$1:D$171,2,FALSE) -> #N/A | E57: DNF
A58: DNF | C58: =VLOOKUP(B58,PART!B$1:C$171,2,FALSE) -> #N/A | D58: =VLOOKUP(C58,PART!C$1:D$171,2,FALSE) -> #N/A | E58: DNF
A59: DNF | C59: =VLOOKUP(B59,PART!B$1:C$171,2,FALSE) -> #N/A | D59: =VLOOKUP(C59,PART!C$1:D$171,2,FALSE) -> #N/A | E59: DNF
A60: DNF | C60: =VLOOKUP(B60,PART!B$1:C$171,2,FALSE) -> #N/A | D60: =VLOOKUP(C60,PART!C$1:D$171,2,FALSE) -> #N/A | E60: DNF
A61: DNF | C61: =VLOOKUP(B61,PART!B$1:C$171,2,FALSE) -> #N/A | D61: =VLOOKUP(C61,PART!C$1:D$171,2,FALSE) -> #N/A | E61: DNF
A62: DNF | C62: =VLOOKUP(B62,PART!B$1:C$171,2,FALSE) -> #N/A | D62: =VLOOKUP(C62,PART!C$1:D$171,2,FALSE) -> #N/A | E62: DNF
A63: DNF | C63: =VLOOKUP(B63,PART!B$1:C$171,2,FALSE) -> #N/A | D63: =VLOOKUP(C63,PART!C$1:D$171,2,FALSE) -> #N/A | E63: DNF
... A118: DNF | C118: =VLOOKUP(B118,PART!B$1:C$171,2,FALSE) -> #N/A | D118: =VLOOKUP(C118,PART!C$1:D$171,2,FALSE) -> #N/A | E118: DNF
B120: GPM | D120: =VLOOKUP(C120,PART!C$1:D$171,2,FALSE) -> #N/A | E120: pts
A121: 1 | C121: =VLOOKUP(B121,PART!B$1:C$171,2,FALSE) -> #N/A | D121: =VLOOKUP(C121,PART!C$1:D$171,2,FALSE) -> #N/A
A122: 2 | C122: =VLOOKUP(B122,PART!B$1:C$171,2,FALSE) -> #N/A | D122: =VLOOKUP(C122,PART!C$1:D$171,2,FALSE) -> #N/A
A123: 3 | C123: =VLOOKUP(B123,PART!B$1:C$171,2,FALSE) -> #N/A | D123: =VLOOKUP(C123,PART!C$1:D$171,2,FALSE) -> #N/A
A124: 4 | C124: =VLOOKUP(B124,PART!B$1:C$171,2,FALSE) -> #N/A | D124: =VLOOKUP(C124,PART!C$1:D$171,2,FALSE) -> #N/A
A125: 5 | C125: =VLOOKUP(B125,PART!B$1:C$171,2,FALSE) -> #N/A | D125: =VLOOKUP(C125,PART!C$1:D$171,2,FALSE) -> #N/A
A126: 6 | C126: =VLOOKUP(B126,PART!B$1:C$171,2,FALSE) -> #N/A | D126: =VLOOKUP(C126,PART!C$1:D$171,2,FALSE) -> #N/A
A127: 7 | C127: =VLOOKUP(B127,PART!B$1:C$171,2,FALSE) -> #N/A | D127: =VLOOKUP(C127,PART!C$1:D$171,2,FALSE) -> #N/A
A128: 8 | C128: =VLOOKUP(B128,PART!B$1:C$171,2,FALSE) -> #N/A | D128: =VLOOKUP(C128,PART!C$1:D$171,2,FALSE) -> #N/A
A129: 9 | C129: =VLOOKUP(B129,PART!B$1:C$171,2,FALSE) -> #N/A | D129: =VLOOKUP(C129,PART!C$1:D$171,2,FALSE) -> #N/A
B131: RUSH | D131: =VLOOKUP(C131,PART!C$1:D$171,2,FALSE) -> #N/A
...

Sheet Classement général
C3: CLASSEMENT GENERAL
A5: 1 | B5: 188 | C5: =VLOOKUP(B5,PART!B$1:C$171,2,FALSE) -> HILBERS Daan (NL) | D5: =VLOOKUP(C5,PART!C$1:E$171,2,FALSE) -> USWV de Domrenner | E5: 0.067361111 | F5: 0.085763889 | H5: =(E5+F5+G5) -> 0.153125 | J5: 3
A6: 2 | B6: 225 | C6: =VLOOKUP(B6,PART!B$1:C$171,2,FALSE) -> BIEMANS Hein (NL) | D6: =VLOOKUP(C6,PART!C$1:E$171,2,FALSE) -> FAVO-KEVENAAR | E6: 0.067361111 | F6: 0.085763889 | H6: =(E6+F6+G6) -> 0.153125 | J6: 7
A7: 3 | B7: 280 | C7: =VLOOKUP(B7,PART!B$1:C$171,2,FALSE) -> HADZHISTOYANOV Borislav (BG) | D7: =VLOOKUP(C7,PART!C$1:E$171,2,FALSE) -> Vitosha CT | E7: 0.067361111 | F7: 0.085763889 | H7: =(E7+F7+G7) -> 0.153125 | J7: 10
A8: 4 | B8: 305 | C8: =VLOOKUP(B8,PART!B$1:C$171,2,FALSE) -> BURTON Jérémy | D8: =VLOOKUP(C8,PART!C$1:E$171,2,FALSE) -> ECW | E8: 0.067361111 | F8: 0.085763889 | H8: =(E8+F8+G8) -> 0.153125 | J8: 13
A9: 5 | B9: 260 | C9: =VLOOKUP(B9,PART!B$1:C$171,2,FALSE) -> MAEYAERT Baptiste | D9: =VLOOKUP(C9,PART!C$1:E$171,2,FALSE) -> SHEETAH-KOERZ CT | E9: 0.067361111 | F9: 0.085763889 | H9: =(E9+F9+G9) -> 0.153125 | J9: 20
A10: 6 | B10: 245 | C10: =VLOOKUP(B10,PART!B$1:C$171,2,FALSE) -> BRUYNOOGHE Niels | D10: =VLOOKUP(C10,PART!C$1:E$171,2,FALSE) -> SALTT R.T. | E10: 0.067361111 | F10: 0.085763889 | H10: =(E10+F10+G10) -> 0.153125 | J10: 24
A11: 7 | B11: 239 | C11: =VLOOKUP(B11,PART!B$1:C$171,2,FALSE) -> NACHTEGAELE Wannes | D11: =VLOOKUP(C11,PART!C$1:E$171,2,FALSE) -> RCT | E11: 0.067361111 | F11: 0.085763889 | H11: =(E11+F11+G11) -> 0.153125 | J11: 27
A12: 8 | B12: 279 | C12: =VLOOKUP(B12,PART!B$1:C$171,2,FALSE) -> DEBAELE Jorre | D12: =VLOOKUP(C12,PART!C$1:E$171,2,FALSE) -> VDR Bikes CT | E12: 0.067361111 | F12: 0.085763889 | H12: =(E12+F12+G12) -> 0.153125 | J12: 28
A13: 9 | B13: 112 | C13: =VLOOKUP(B13,PART!B$1:C$171,2,FALSE) -> DUMONT Clément *** | D13: =VLOOKUP(C13,PART!C$1:E$171,2,FALSE) -> TRUSTUP-CC CHEVIGNY | E13: 0.067361111 | F13: 0.085763889 | H13: =(E13+F13+G13) -> 0.153125 | J13: 38
A14: 10 | B14: 27 | C14: =VLOOKUP(B14,PART!B$1:C$171,2,FALSE) -> LEHNEN Thomas | D14: =VLOOKUP(C14,PART!C$1:E$171,2,FALSE) -> ECW / Racepoint | E14: 0.067361111 | F14: 0.085763889 | H14: =(E14+F14+G14) -> 0.153125 | J14: 42
A15: 11 | B15: 435 | C15: =VLOOKUP(B15,PART!B$1:C$171,2,FALSE) -> PONSARD Julien ** | D15: =VLOOKUP(C15,PART!C$1:E$171,2,FALSE) -> CR Luxembourg | E15: 0.067361111 | F15: 0.085763889 | H15: =(E15+F15+G15) -> 0.153125 | J15: 46
A16: 12 | B16: 208 | C16: =VLOOKUP(B16,PART!B$1:C$171,2,FALSE) -> SEMAL Théo | D16: =VLOOKUP(C16,PART!C$1:E$171,2,FALSE) -> BRUSSELS CYCLING PROJ. | E16: 0.067361111 | F16: 0.085763889 | H16: =(E16+F16+G16) -> 0.153125 | J16: 48
A17: 13 | B17: 185 | C17: =VLOOKUP(B17,PART!B$1:C$171,2,FALSE) -> RUIZENDAAL Lars (NL) | D17: =VLOOKUP(C17,PART!C$1:E$171,2,FALSE) -> WV de Amstel | E17: 0.067361111 | F17: 0.085763889 | H17: =(E17+F17+G17) -> 0.153125 | J17: 51
A18: 14 | B18: 193 | C18: =VLOOKUP(B18,PART!B$1:C$171,2,FALSE) -> HOLLANDER Daan | D18: =VLOOKUP(C18,PART!C$1:E$171,2,FALSE) -> USWV De Domrenner | E18: 0.067511574 | F18: 0.085763889 | H18: =(E18+F18+G18) -> 0.15327546 | I18: à 13" | J18: 53
A19: 15 | B19: 198 | C19: =VLOOKUP(B19,PART!B$1:C$171,2,FALSE) -> BOUILLON Simon ** | D19: =VLOOKUP(C19,PART!C$1:E$171,2,FALSE) -> TRUSTUP-CC CHEVIGNY | E19: 0.067511574 | F19: 0.085763889 | H19: =(E19+F19+G19) -> 0.15327546 | I19: 13" | J19: 58
A20: 16 | B20: 242 | C20: =VLOOKUP(B20,PART!B$1:C$171,2,FALSE) -> JANS Noah | D20: =VLOOKUP(C20,PART!C$1:E$171,2,FALSE) -> Rupel Cycling Team | E20: 0.067777778 | F20: 0.085763889 | H20: =(E20+F20+G20) -> 0.15354167 | I20: 36" | J20: 24
A21: 17 | B21: 277 | C21: =VLOOKUP(B21,PART!B$1:C$171,2,FALSE) -> PARMENTIER Tycho | D21: =VLOOKUP(C21,PART!C$1:E$171,2,FALSE) -> USWV de Domrenner | E21: 0.068055556 | F21: 0.085914352 | H21: =(E21+F21+G21) -> 0.15396991 | I21: 1'13" | J21: 64
A22: 18 | B22: 348 | C22: =VLOOKUP(B22,PART!B$1:C$171,2,FALSE) -> VAN POUCKE Michaël | D22: =VLOOKUP(C22,PART!C$1:E$171,2,FALSE) -> ECW | E22: 0.068229167 | F22: 0.085763889 | H22: =(E22+F22+G22) -> 0.15399306 | I22: 1'15" | J22: 28
A23: 19 | B23: 281 | C23: =VLOOKUP(B23,PART!B$1:C$171,2,FALSE) -> VON KLEMPERER Max (D) | D23: =VLOOKUP(C23,PART!C$1:E$171,2,FALSE) -> Westland WV | E23: 0.068229167 | F23: 0.085763889 | H23: =(E23+F23+G23) -> 0.15399306 | I23: 1'15" | J23: 31
A24: 20 | B24: 233 | C24: =VLOOKUP(B24,PART!B$1:C$171,2,FALSE) -> VAN DER BIJL Friso (NL) | D24: =VLOOKUP(C24,PART!C$1:E$171,2,FALSE) -> Tandje Hoger | E24: 0.068229167 | F24: 0.085763889 | H24: =(E24+F24+G24) -> 0.15399306 | I24: 1'15" | J24: 33
A25: 21 | B25: 192 | C25: =VLOOKUP(B25,PART!B$1:C$171,2,FALSE) -> JOOSTEN Finn (NL) | D25: =VLOOKUP(C25,PART!C$1:E$171,2,FALSE) -> USWV De Domrenner | E25: 0.068229167 | F25: 0.085763889 | H25: =(E25+F25+G25) -> 0.15399306 | I25: 1'15" | J25: 39
A26: 22 | B26: 34 | C26: =VLOOKUP(B26,PART!B$1:C$171,2,FALSE) -> PAULS Geoffrey | D26: =VLOOKUP(C26,PART!C$1:E$171,2,FALSE) -> ECW | E26: 0.068229167 | F26: 0.085763889 | H26: =(E26+F26+G26) -> 0.15399306 | I26: 1'15" | J26: 46
A27: 23 | B27: 366 | C27: =VLOOKUP(B27,PART!B$1:C$171,2,FALSE) -> BORCY Quentin ** | D27: =VLOOKUP(C27,PART!C$1:E$171,2,FALSE) -> TRUSTUP-CC CHEVIGNY | E27: 0.068229167 | F27: 0.085763889 | H27: =(E27+F27+G27) -> 0.15399306 | I27: 1'15" | J27: 54
A28: 24 | B28: 217 | C28: =VLOOKUP(B28,PART!B$1:C$171,2,FALSE) -> TEMMING Bram (NL) | D28: =VLOOKUP(C28,PART!C$1:E$171,2,FALSE) -> Dutch Mountains | E28: 0.068229167 | F28: 0.085763889 | H28: =(E28+F28+G28) -> 0.15399306 | I28: 1'15" | J28: 64
A29: 25 | B29: 229 | C29: =VLOOKUP(B29,PART!B$1:C$171,2,FALSE) -> VAN DEN BROEK Daan (NL) | D29: =VLOOKUP(C29,PART!C$1:E$171,2,FALSE) -> FAVO-KEVENAAR | E29: 0.068229167 | F29: 0.085914352 | H29: =(E29+F29+G29) -> 0.15414352 | I29: 1'28" | J29: 71
... A60: 56 | B60: 361 | C60: =VLOOKUP(B60,PART!B$1:C$171,2,FALSE) -> CALAY Arnaud ** | D60: =VLOOKUP(C60,PART!C$1:E$171,2,FALSE) -> SLC² | E60: 0.069212963 | F60: 0.098125 | H60: =(E60+F60+G60) -> 0.16733796 | I60: 20'28" | J60: 132
B62: GPM
A63: 1 | B63: 280 | C63: =VLOOKUP(B63,PART!B$1:C$171,2,FALSE) -> HADZHISTOYANOV Borislav (BG) | D63: =VLOOKUP(C63,PART!C$1:E$171,2,FALSE) -> Vitosha CT | E63: 9 | F63: 21 | H63: 30
A64: 2 | B64: 279 | C64: =VLOOKUP(B64,PART!B$1:C$171,2,FALSE) -> DEBAELE Jorre | D64: =VLOOKUP(C64,PART!C$1:E$171,2,FALSE) -> VDR Bikes CT | E64: 13 | F64: 13 | H64: 26
A65: 3 | B65: 225 | C65: =VLOOKUP(B65,PART!B$1:C$171,2,FALSE) -> BIEMANS Hein (NL) | D65: =VLOOKUP(C65,PART!C$1:E$171,2,FALSE) -> FAVO-KEVENAAR | E65: 21 | F65: 3 | H65: 24
A66: 4 | B66: 27 | C66: =VLOOKUP(B66,PART!B$1:C$171,2,FALSE) -> LEHNEN Thomas | D66: =VLOOKUP(C66,PART!C$1:E$171,2,FALSE) -> ECW / Racepoint | E66: 8 | F66: 16 | H66: 24
A67: 5 | B67: 188 | C67: =VLOOKUP(B67,PART!B$1:C$171,2,FALSE) -> HILBERS Daan (NL) | D67: =VLOOKUP(C67,PART!C$1:E$171,2,FALSE) -> USWV de Domrenner | E67: 8 | F67: 3 | H67: 11
A68: 6 | B68: 193 | C68: =VLOOKUP(B68,PART!B$1:C$171,2,FALSE) -> HOLLANDER Daan | D68: =VLOOKUP(C68,PART!C$1:E$171,2,FALSE) -> USWV De Domrenner | E68: 5 | H68: 8
A69: 7 | B69: 262 | C69: =VLOOKUP(B69,PART!B$1:C$171,2,FALSE) -> LOWYCK Benjamin | D69: =VLOOKUP(C69,PART!C$1:E$171,2,FALSE) -> SHEETAH-KOERZ CT | E69: 3 | F69: 5 | H69: 8
A70: 8 | B70: 106 | C70: =VLOOKUP(B70,PART!B$1:C$171,2,FALSE) -> DELCOMMUNE Jules | D70: =VLOOKUP(C70,PART!C$1:E$171,2,FALSE) -> TRUSTUP-CC CHEVIGNY | F70: 3 | H70: 3
B72: RUSH
A73: 1 | B73: 27 | C73: =VLOOKUP(B73,PART!B$1:C$171,2,FALSE) -> LEHNEN Thomas | D73: =VLOOKUP(C73,PART!C$1:E$171,2,FALSE) -> ECW / Racepoint | E73: 5 | F73: 8 | H73: 13
A74: 2 | B74: 305 | C74: =VLOOKUP(B74,PART!B$1:C$171,2,FALSE) -> BURTON Jérémy | D74: =VLOOKUP(C74,PART!C$1:E$171,2,FALSE) -> ECW | E74: 3 | F74: 5 | H74: 8
A75: 3 | B75: 225 | C75: =VLOOKUP(B75,PART!B$1:C$171,2,FALSE) -> BIEMANS Hein (NL) | D75: =VLOOKUP(C75,PART!C$1:E$171,2,FALSE) -> FAVO-KEVENAAR | E75: 8 | H75: 8
...
